Workbook

Sheet INSCRIPCION
AA1: 123
S2: RECREATIVO
C3: FEDERACIÓN DEPORTIVA NACIONAL PERUANA DE PATINAJE | S3: NOVATOS
A4: PLANILLA ÚNICA DE INSCRIPCIÓN PATIN RECREATIVO / NOVATOS | S4: CATEGORIAS RECREATIVO (EDADES TOMADAS AL 31/12/2026) | U4: AÑO NACIMIENTO | W4: CATEGORIAS NOVATOS (EDADES TOMADAS AL 31/12/2026) | Y4: AÑO NACIMIENTO
A5: EVENTO: | E5: 5TO° CAMPEONATO NACIONAL INTER ESCUELAS - OCTUBRE 2026 | N5: TIPO DE INSCRIPCION
A6: CLUB: | E6: VIKINGOS | I6: TOTAL DEPORTISTAS: | L6: 1 | N6: ORDINARIA | P6: EXTRA | S6: MINI ROLLER | T6: 5 AÑOS * | U6: 2021
A7: DELEGADO : | I7: E-MAIL DELEGADO: | N7: X | T7: 6 AÑOS | U7: 2020 | W7: INFANTIL A | X7: 7 AÑOS * | Y7: 2019
A8: ENTRENADOR: | I8: TELEFONO DELEGADO: | S8: INFANTIL A | T8: 7 AÑOS - 8 AÑOS | U8: 2019 Y 2018 | X8: 8 AÑOS | Y8: 2018
A9: I N F O R M A C I Ó N D E P O R T I V A | N9: PRUEBAS | S9: INFANTIL B | T9: 9 AÑOS - 10 AÑOS | U9: 2017 Y 2016 | W9: INFANTIL B | X9: 9 AÑOS - 10 AÑOS | Y9: 2017 Y 2016
A10: No | B10: TORNEO | C10: CATEGORÍA | E10: RAMA | F10: NOMBRES | G10: APELLIDOS | I10: NACIMIENTO | J10: EDAD | K10: DOC. DE IDENTIDAD | M10: ESTATUS | N10: HABILIDAD | O10: VELOCIDAD | P10: FONDO | S10: INFANTIL C | T10: 11 AÑOS - 12 AÑOS | U10: 2015 Y 2014 | W10: INFANTIL C | X10: 11 AÑOS - 12 AÑOS | Y10: 2015 Y 2014
E11: F / M | I11: DIA/MES/AÑO | K11: TIPO | L11: NÚMERO | S11: JUNIOR | T11: 13 AÑOS | U11: 2013 | W11: JUNIOR | X11: 13 AÑOS | Y11: 2013
A12: 1 | B12: RECREATIVO | C12: INFANTIL A | D12: =_xlfn.CONCAT(C12," ",B12) -> INFANTIL A RECREATIVO | E12: F | F12: Perico | G12: PALOTES PALOTES | H12: =_xlfn.CONCAT(G12,", ",F12) -> PALOTES PALOTES, Perico | I12: 32689 | J12: =DATEDIF(I12,TODAY(),"Y")&" años y "&DATEDIF(I12,TODAY(),"YM")&" meses" -> 37 años y 2 meses | K12: DNI | L12: 123456789 | M12: NO AFILIADO | N12: x | O12: x | P12: x | S12: PRE JUVENIL | T12: 14 AÑOS | U12: 2012 | W12: PRE JUVENIL | X12: 14 AÑOS | Y12: 2012
A13: =+A12+1 -> 2 | D13: =_xlfn.CONCAT(C13," ",B13) | H13: =_xlfn.CONCAT(G13,", ",F13) -> , | S13: OPEN FITNESS | T13: 15 AÑOS EN ADELANTE | U13: 2011 A MENOS | W13: JUVENIL | X13: 15 A 18 AÑOS | Y13: 2011; 2010; 2009; 2008
A14: =+A13+1 -> 3 | D14: =_xlfn.CONCAT(C14," ",B14) | H14: =_xlfn.CONCAT(G14,", ",F14) -> , | W14: MAYORES | X14: 19 AÑOS A MAS | Y14: 2007 A MENOS
A15: =+A14+1 -> 4 | D15: =_xlfn.CONCAT(C15," ",B15) | H15: =_xlfn.CONCAT(G15,", ",F15) -> , | S15: MAYORES
A16: =+A15+1 -> 5 | D16: =_xlfn.CONCAT(C16," ",B16) | H16: =_xlfn.CONCAT(G16,", ",F16) -> , | S16: TORNEO | W16: ESTATUS **
A17: =+A16+1 -> 6 | D17: =_xlfn.CONCAT(C17," ",B17) | H17: =_xlfn.CONCAT(G17,", ",F17) -> ,
A18: =+A17+1 -> 7 | D18: =_xlfn.CONCAT(C18," ",B18) | H18: =_xlfn.CONCAT(G18,", ",F18) -> ,
A19: =+A18+1 -> 8 | D19: =_xlfn.CONCAT(C19," ",B19) | H19: =_xlfn.CONCAT(G19,", ",F19) -> , | S19: RECREATIVO | W19: AFILIADO
A20: =+A19+1 -> 9 | D20: =_xlfn.CONCAT(C20," ",B20) | H20: =_xlfn.CONCAT(G20,", ",F20) -> , | S20: NOVATOS | W20: NO AFILIADO
A21: =+A20+1 -> 10 | D21: =_xlfn.CONCAT(C21," ",B21) | H21: =_xlfn.CONCAT(G21,", ",F21) -> , | W21: INVITADO
A22: =+A21+1 -> 11 | D22: =_xlfn.CONCAT(C22," ",B22) | H22: =_xlfn.CONCAT(G22,", ",F22) -> ,
A23: =+A22+1 -> 12 | D23: =_xlfn.CONCAT(C23," ",B23) | H23: =_xlfn.CONCAT(G23,", ",F23) -> , | S23: DOCUMENTO TIPO | V23: * | W23: Cumplidos a la fecha del evento.
A24: =+A23+1 -> 13 | D24: =_xlfn.CONCAT(C24," ",B24) | H24: =_xlfn.CONCAT(G24,", ",F24) -> , | V24: ** | W24: AFILIADO: Federado: NO AFILIADO: No Federado, INVITADO: Extranjero.
A25: =+A24+1 -> 14 | D25: =_xlfn.CONCAT(C25," ",B25) | H25: =_xlfn.CONCAT(G25,", ",F25) -> ,
A26: =+A25+1 -> 15 | D26: =_xlfn.CONCAT(C26," ",B26) | H26: =_xlfn.CONCAT(G26,", ",F26) -> , | S26: DNI
A27: =+A26+1 -> 16 | D27: =_xlfn.CONCAT(C27," ",B27) | H27: =_xlfn.CONCAT(G27,", ",F27) -> , | S27: CE
A28: =+A27+1 -> 17 | D28: =_xlfn.CONCAT(C28," ",B28) | H28: =_xlfn.CONCAT(G28,", ",F28) -> , | S28: PASAPORTE
A29: =+A28+1 -> 18 | D29: =_xlfn.CONCAT(C29," ",B29) | H29: =_xlfn.CONCAT(G29,", ",F29) -> , | S29: OTRO
A30: =+A29+1 -> 19 | D30: =_xlfn.CONCAT(C30," ",B30) | H30: =_xlfn.CONCAT(G30,", ",F30) -> ,
A31: =+A30+1 -> 20 | D31: =_xlfn.CONCAT(C31," ",B31) | H31: =_xlfn.CONCAT(G31,", ",F31) -> , | S31: RAMA
A32: =+A31+1 -> 21 | D32: =_xlfn.CONCAT(C32," ",B32) | H32: =_xlfn.CONCAT(G32,", ",F32) -> ,
A33: =+A32+1 -> 22 | D33: =_xlfn.CONCAT(C33," ",B33) | H33: =_xlfn.CONCAT(G33,", ",F33) -> ,
A34: =+A33+1 -> 23 | D34: =_xlfn.CONCAT(C34," ",B34) | H34: =_xlfn.CONCAT(G34,", ",F34) -> , | S34: F
A35: =+A34+1 -> 24 | D35: =_xlfn.CONCAT(C35," ",B35) | H35: =_xlfn.CONCAT(G35,", ",F35) -> , | S35: M
A36: =+A35+1 -> 25 | D36: =_xlfn.CONCAT(C36," ",B36) | H36: =_xlfn.CONCAT(G36,", ",F36) -> ,
A37: =+A36+1 -> 26 | D37: =_xlfn.CONCAT(C37," ",B37) | H37: =_xlfn.CONCAT(G37,", ",F37) -> ,
A38: =+A37+1 -> 27 | D38: =_xlfn.CONCAT(C38," ",B38) | H38: =_xlfn.CONCAT(G38,", ",F38) -> ,
A39: =+A38+1 -> 28 | D39: =_xlfn.CONCAT(C39," ",B39) | H39: =_xlfn.CONCAT(G39,", ",F39) -> ,
A40: =+A39+1 -> 29 | D40: =_xlfn.CONCAT(C40," ",B40) | H40: =_xlfn.CONCAT(G40,", ",F40) -> ,
A41: =+A40+1 -> 30 | D41: =_xlfn.CONCAT(C41," ",B41) | H41: =_xlfn.CONCAT(G41,", ",F41) -> ,
A42: =+A41+1 -> 31 | D42: =_xlfn.CONCAT(C42," ",B42) | H42: =_xlfn.CONCAT(G42,", ",F42) -> ,
A43: =+A42+1 -> 32 | D43: =_xlfn.CONCAT(C43," ",B43) | H43: =_xlfn.CONCAT(G43,", ",F43) -> ,
A44: =+A43+1 -> 33 | D44: =_xlfn.CONCAT(C44," ",B44) | H44: =_xlfn.CONCAT(G44,", ",F44) -> ,
A45: =+A44+1 -> 34 | D45: =_xlfn.CONCAT(C45," ",B45) | H45: =_xlfn.CONCAT(G45,", ",F45) -> ,
A46: =+A45+1 -> 35 | D46: =_xlfn.CONCAT(C46," ",B46) | H46: =_xlfn.CONCAT(G46,", ",F46) -> ,
A47: =+A46+1 -> 36 | D47: =_xlfn.CONCAT(C47," ",B47) | H47: =_xlfn.CONCAT(G47,", ",F47) -> ,
... A51: =+A50+1 -> 40 | D51: =_xlfn.CONCAT(C51," ",B51) | H51: =_xlfn.CONCAT(G51,", ",F51) -> ,
B53: INSCRIPCIÓN ORDINARIA | H53: TOTAL
B54: MONTO A PAGAR POR INSCRIPCIÓN CLUB O ESCUELA INVITADA | G54: 100 | H54: =IF(N7="X",G54,0) -> 100
B55: MONTO A PAGAR POR INSCRIPCIÓN DE DEPORTISTAS | G55: 60 | H55: =IF(N7="X",L6*G55,0) -> 60
B56: MONTO TOTAL A PAGAR ORDINARIA | H56: =+H54+H55 -> 160
B58: INSCRIPCIÓN EXTRAORDINARIA | H58: TOTAL
B59: MONTO A PAGAR POR INSCRIPCIÓN CLUB O ESCUELA INVITADA | G59: 140 | H59: =IF(P7="X",G59,0) -> 0
B60: MONTO A PAGAR POR INSCRIPCIÓN DE DEPORTISTAS | G60: 100 | H60: =IF(P7="X",L6*G60,0) -> 0
B61: MONTO TOTAL A PAGAR ORDINARIA | H61: =+H59+H60 -> 0

Sheet REGISTRO DELEGADO_ASISTENTE_ENT
A1: *NOTA* | B1: Por cada 12 deportistas inscritos se registra un asistente
A2: *NOTA* | B2: Sólo se permite el ingreso de vehículo del delegado, registrar la placa del vehículo del delegado únicamente
G3: DELEGADO
G4: ENTRENADOR
G5: ASISTENTE
A6: REGISTRO DELEGADO/ENTRENADOR/ASISTENTE DÍA SÁBADO
A7: CLUB | B7: APELLIDOS | C7: NOMBRES | D7: DNI / CE / PASS | E7: ENTRENADOR/ DELEGADO/ ASISTENTE | F7: VEHÍCULO
A8: =+INSCRIPCION!E6 -> VIKINGOS

Sheet Hoja1
A1: ITEM | B1: PATIN | C1: CLUB | D1: CATEGORIA2 | E1: CATEGORIA | F1: RAMA | G1: NOMBRES | H1: NOMBRES | I1: FECHA DE NACIMIENTO | J1: TIPO | K1: NÚMERO | L1: ESTATUS | M1: HABILIDAD | N1: VELOCIDAD | O1: FONDO | P1: INSCRIPCION
A2: =+INSCRIPCION!A12 -> 1 | B2: =+INSCRIPCION!B12 -> RECREATIVO | C2: =+INSCRIPCION!$E$6 -> VIKINGOS | D2: =+INSCRIPCION!C12 -> INFANTIL A | E2: =+D2&" "&B2 -> INFANTIL A RECREATIVO | F2: =+INSCRIPCION!E12 -> F | G2: =+INSCRIPCION!H12 -> PALOTES PALOTES, Perico | H2: =+UPPER(G2) -> PALOTES PALOTES, PERICO | I2: =+INSCRIPCION!I12 -> 32689 | J2: =+INSCRIPCION!K12 -> DNI | K2: =+INSCRIPCION!L12 -> 123456789 | L2: =+INSCRIPCION!M12 -> NO AFILIADO | M2: =+INSCRIPCION!N12 -> x | N2: =+INSCRIPCION!O12 -> x | O2: =+INSCRIPCION!P12 -> x
A3: =+INSCRIPCION!A13 -> 2 | B3: =+INSCRIPCION!B13 -> 0 | C3: =+INSCRIPCION!$E$6 -> VIKINGOS | D3: =+INSCRIPCION!C13 -> 0 | E3: =+D3&" "&B3 -> 0 0 | F3: =+INSCRIPCION!E13 -> 0 | G3: =+INSCRIPCION!H13 -> , | H3: =+UPPER(G3) -> , | I3: =+INSCRIPCION!I13 -> 0 | J3: =+INSCRIPCION!K13 -> 0 | K3: =+INSCRIPCION!L13 -> 0 | L3: =+INSCRIPCION!M13 -> 0 | M3: =+INSCRIPCION!N13 -> 0 | N3: =+INSCRIPCION!O13 -> 0 | O3: =+INSCRIPCION!P13 -> 0
A4: =+INSCRIPCION!A14 -> 3 | B4: =+INSCRIPCION!B14 -> 0 | C4: =+INSCRIPCION!$E$6 -> VIKINGOS | D4: =+INSCRIPCION!C14 -> 0 | E4: =+D4&" "&B4 -> 0 0 | F4: =+INSCRIPCION!E14 -> 0 | G4: =+INSCRIPCION!H14 -> , | H4: =+UPPER(G4) -> , | I4: =+INSCRIPCION!I14 -> 0 | J4: =+INSCRIPCION!K14 -> 0 | K4: =+INSCRIPCION!L14 -> 0 | L4: =+INSCRIPCION!M14 -> 0 | M4: =+INSCRIPCION!N14 -> 0 | N4: =+INSCRIPCION!O14 -> 0 | O4: =+INSCRIPCION!P14 -> 0
A5: =+INSCRIPCION!A15 -> 4 | B5: =+INSCRIPCION!B15 -> 0 | C5: =+INSCRIPCION!$E$6 -> VIKINGOS | D5: =+INSCRIPCION!C15 -> 0 | E5: =+D5&" "&B5 -> 0 0 | F5: =+INSCRIPCION!E15 -> 0 | G5: =+INSCRIPCION!H15 -> , | H5: =+UPPER(G5) -> , | I5: =+INSCRIPCION!I15 -> 0 | J5: =+INSCRIPCION!K15 -> 0 | K5: =+INSCRIPCION!L15 -> 0 | L5: =+INSCRIPCION!M15 -> 0 | M5: =+INSCRIPCION!N15 -> 0 | N5: =+INSCRIPCION!O15 -> 0 | O5: =+INSCRIPCION!P15 -> 0
A6: =+INSCRIPCION!A16 -> 5 | B6: =+INSCRIPCION!B16 -> 0 | C6: =+INSCRIPCION!$E$6 -> VIKINGOS | D6: =+INSCRIPCION!C16 -> 0 | E6: =+D6&" "&B6 -> 0 0 | F6: =+INSCRIPCION!E16 -> 0 | G6: =+INSCRIPCION!H16 -> , | H6: =+UPPER(G6) -> , | I6: =+INSCRIPCION!I16 -> 0 | J6: =+INSCRIPCION!K16 -> 0 | K6: =+INSCRIPCION!L16 -> 0 | L6: =+INSCRIPCION!M16 -> 0 | M6: =+INSCRIPCION!N16 -> 0 | N6: =+INSCRIPCION!O16 -> 0 | O6: =+INSCRIPCION!P16 -> 0
A7: =+INSCRIPCION!A17 -> 6 | B7: =+INSCRIPCION!B17 -> 0 | C7: =+INSCRIPCION!$E$6 -> VIKINGOS | D7: =+INSCRIPCION!C17 -> 0 | E7: =+D7&" "&B7 -> 0 0 | F7: =+INSCRIPCION!E17 -> 0 | G7: =+INSCRIPCION!H17 -> , | H7: =+UPPER(G7) -> , | I7: =+INSCRIPCION!I17 -> 0 | J7: =+INSCRIPCION!K17 -> 0 | K7: =+INSCRIPCION!L17 -> 0 | L7: =+INSCRIPCION!M17 -> 0 | M7: =+INSCRIPCION!N17 -> 0 | N7: =+INSCRIPCION!O17 -> 0 | O7: =+INSCRIPCION!P17 -> 0
A8: =+INSCRIPCION!A18 -> 7 | B8: =+INSCRIPCION!B18 -> 0 | C8: =+INSCRIPCION!$E$6 -> VIKINGOS | D8: =+INSCRIPCION!C18 -> 0 | E8: =+D8&" "&B8 -> 0 0 | F8: =+INSCRIPCION!E18 -> 0 | G8: =+INSCRIPCION!H18 -> , | H8: =+UPPER(G8) -> , | I8: =+INSCRIPCION!I18 -> 0 | J8: =+INSCRIPCION!K18 -> 0 | K8: =+INSCRIPCION!L18 -> 0 | L8: =+INSCRIPCION!M18 -> 0 | M8: =+INSCRIPCION!N18 -> 0 | N8: =+INSCRIPCION!O18 -> 0 | O8: =+INSCRIPCION!P18 -> 0
A9: =+INSCRIPCION!A19 -> 8 | B9: =+INSCRIPCION!B19 -> 0 | C9: =+INSCRIPCION!$E$6 -> VIKINGOS | D9: =+INSCRIPCION!C19 -> 0 | E9: =+D9&" "&B9 -> 0 0 | F9: =+INSCRIPCION!E19 -> 0 | G9: =+INSCRIPCION!H19 -> , | H9: =+UPPER(G9) -> , | I9: =+INSCRIPCION!I19 -> 0 | J9: =+INSCRIPCION!K19 -> 0 | K9: =+INSCRIPCION!L19 -> 0 | L9: =+INSCRIPCION!M19 -> 0 | M9: =+INSCRIPCION!N19 -> 0 | N9: =+INSCRIPCION!O19 -> 0 | O9: =+INSCRIPCION!P19 -> 0
A10: =+INSCRIPCION!A20 -> 9 | B10: =+INSCRIPCION!B20 -> 0 | C10: =+INSCRIPCION!$E$6 -> VIKINGOS | D10: =+INSCRIPCION!C20 -> 0 | E10: =+D10&" "&B10 -> 0 0 | F10: =+INSCRIPCION!E20 -> 0 | G10: =+INSCRIPCION!H20 -> , | H10: =+UPPER(G10) -> , | I10: =+INSCRIPCION!I20 -> 0 | J10: =+INSCRIPCION!K20 -> 0 | K10: =+INSCRIPCION!L20 -> 0 | L10: =+INSCRIPCION!M20 -> 0 | M10: =+INSCRIPCION!N20 -> 0 | N10: =+INSCRIPCION!O20 -> 0 | O10: =+INSCRIPCION!P20 -> 0
A11: =+INSCRIPCION!A21 -> 10 | B11: =+INSCRIPCION!B21 -> 0 | C11: =+INSCRIPCION!$E$6 -> VIKINGOS | D11: =+INSCRIPCION!C21 -> 0 | E11: =+D11&" "&B11 -> 0 0 | F11: =+INSCRIPCION!E21 -> 0 | G11: =+INSCRIPCION!H21 -> , | H11: =+UPPER(G11) -> , | I11: =+INSCRIPCION!I21 -> 0 | J11: =+INSCRIPCION!K21 -> 0 | K11: =+INSCRIPCION!L21 -> 0 | L11: =+INSCRIPCION!M21 -> 0 | M11: =+INSCRIPCION!N21 -> 0 | N11: =+INSCRIPCION!O21 -> 0 | O11: =+INSCRIPCION!P21 -> 0
A12: =+INSCRIPCION!A22 -> 11 | B12: =+INSCRIPCION!B22 -> 0 | C12: =+INSCRIPCION!$E$6 -> VIKINGOS | D12: =+INSCRIPCION!C22 -> 0 | E12: =+D12&" "&B12 -> 0 0 | F12: =+INSCRIPCION!E22 -> 0 | G12: =+INSCRIPCION!H22 -> , | H12: =+UPPER(G12) -> , | I12: =+INSCRIPCION!I22 -> 0 | J12: =+INSCRIPCION!K22 -> 0 | K12: =+INSCRIPCION!L22 -> 0 | L12: =+INSCRIPCION!M22 -> 0 | M12: =+INSCRIPCION!N22 -> 0 | N12: =+INSCRIPCION!O22 -> 0 | O12: =+INSCRIPCION!P22 -> 0
A13: =+INSCRIPCION!A23 -> 12 | B13: =+INSCRIPCION!B23 -> 0 | C13: =+INSCRIPCION!$E$6 -> VIKINGOS | D13: =+INSCRIPCION!C23 -> 0 | E13: =+D13&" "&B13 -> 0 0 | F13: =+INSCRIPCION!E23 -> 0 | G13: =+INSCRIPCION!H23 -> , | H13: =+UPPER(G13) -> , | I13: =+INSCRIPCION!I23 -> 0 | J13: =+INSCRIPCION!K23 -> 0 | K13: =+INSCRIPCION!L23 -> 0 | L13: =+INSCRIPCION!M23 -> 0 | M13: =+INSCRIPCION!N23 -> 0 | N13: =+INSCRIPCION!O23 -> 0 | O13: =+INSCRIPCION!P23 -> 0
... A34: =+INSCRIPCION!A44 -> 33 | B34: =+INSCRIPCION!B44 -> 0 | C34: =+INSCRIPCION!$E$6 -> VIKINGOS | D34: =+INSCRIPCION!C44 -> 0 | E34: =+D34&" "&B34 -> 0 0 | F34: =+INSCRIPCION!E44 -> 0 | G34: =+INSCRIPCION!H44 -> , | H34: =+UPPER(G34) -> , | I34: =+INSCRIPCION!I44 -> 0 | J34: =+INSCRIPCION!K44 -> 0 | K34: =+INSCRIPCION!L44 -> 0 | L34: =+INSCRIPCION!M44 -> 0 | M34: =+INSCRIPCION!N44 -> 0 | N34: =+INSCRIPCION!O44 -> 0 | O34: =+INSCRIPCION!P44 -> 0

Sheet Datos
B1: CLUB | C1: CATEGORIA | D1: RAMA | E1: APELLIDOS y NOMBRES | F1: NACIMIENTO | G1: TIPO | H1: NUMERO | I1: ESTATUS | J1: HABILIDAD | K1: VELOCIDAD | L1: FONFO | M1: INSCRIPCION
A2: 1 | B2: =INSCRIPCION!$E$6 -> VIKINGOS | C2: =INSCRIPCION!D12 -> INFANTIL A RECREATIVO | D2: =INSCRIPCION!E12 -> F | E2: =INSCRIPCION!H12 -> PALOTES PALOTES, Perico | F2: =INSCRIPCION!I12 -> 32689 | G2: =INSCRIPCION!K12 -> DNI | H2: =INSCRIPCION!L12 -> 123456789 | I2: =INSCRIPCION!M12 -> NO AFILIADO | J2: =INSCRIPCION!N12 -> x | K2: =INSCRIPCION!O12 -> x | L2: =INSCRIPCION!P12 -> x
A3: 2 | B3: =INSCRIPCION!$E$6 -> VIKINGOS | C3: =INSCRIPCION!D13 | D3: =INSCRIPCION!E13 -> 0 | E3: =INSCRIPCION!H13 -> , | F3: =INSCRIPCION!I13 -> 0 | G3: =INSCRIPCION!K13 -> 0 | H3: =INSCRIPCION!L13 -> 0 | I3: =INSCRIPCION!M13 -> 0 | J3: =INSCRIPCION!N13 -> 0 | K3: =INSCRIPCION!O13 -> 0 | L3: =INSCRIPCION!P13 -> 0
A4: 3 | B4: =INSCRIPCION!$E$6 -> VIKINGOS | C4: =INSCRIPCION!D14 | D4: =INSCRIPCION!E14 -> 0 | E4: =INSCRIPCION!H14 -> , | F4: =INSCRIPCION!I14 -> 0 | G4: =INSCRIPCION!K14 -> 0 | H4: =INSCRIPCION!L14 -> 0 | I4: =INSCRIPCION!M14 -> 0 | J4: =INSCRIPCION!N14 -> 0 | K4: =INSCRIPCION!O14 -> 0 | L4: =INSCRIPCION!P14 -> 0
A5: 4 | B5: =INSCRIPCION!$E$6 -> VIKINGOS | C5: =INSCRIPCION!D15 | D5: =INSCRIPCION!E15 -> 0 | E5: =INSCRIPCION!H15 -> , | F5: =INSCRIPCION!I15 -> 0 | G5: =INSCRIPCION!K15 -> 0 | H5: =INSCRIPCION!L15 -> 0 | I5: =INSCRIPCION!M15 -> 0 | J5: =INSCRIPCION!N15 -> 0 | K5: =INSCRIPCION!O15 -> 0 | L5: =INSCRIPCION!P15 -> 0
A6: 5 | B6: =INSCRIPCION!$E$6 -> VIKINGOS | C6: =INSCRIPCION!D16 | D6: =INSCRIPCION!E16 -> 0 | E6: =INSCRIPCION!H16 -> , | F6: =INSCRIPCION!I16 -> 0 | G6: =INSCRIPCION!K16 -> 0 | H6: =INSCRIPCION!L16 -> 0 | I6: =INSCRIPCION!M16 -> 0 | J6: =INSCRIPCION!N16 -> 0 | K6: =INSCRIPCION!O16 -> 0 | L6: =INSCRIPCION!P16 -> 0
A7: 6 | B7: =INSCRIPCION!$E$6 -> VIKINGOS | C7: =INSCRIPCION!D17 | D7: =INSCRIPCION!E17 -> 0 | E7: =INSCRIPCION!H17 -> , | F7: =INSCRIPCION!I17 -> 0 | G7: =INSCRIPCION!K17 -> 0 | H7: =INSCRIPCION!L17 -> 0 | I7: =INSCRIPCION!M17 -> 0 | J7: =INSCRIPCION!N17 -> 0 | K7: =INSCRIPCION!O17 -> 0 | L7: =INSCRIPCION!P17 -> 0
A8: 7 | B8: =INSCRIPCION!$E$6 -> VIKINGOS | C8: =INSCRIPCION!D18 | D8: =INSCRIPCION!E18 -> 0 | E8: =INSCRIPCION!H18 -> , | F8: =INSCRIPCION!I18 -> 0 | G8: =INSCRIPCION!K18 -> 0 | H8: =INSCRIPCION!L18 -> 0 | I8: =INSCRIPCION!M18 -> 0 | J8: =INSCRIPCION!N18 -> 0 | K8: =INSCRIPCION!O18 -> 0 | L8: =INSCRIPCION!P18 -> 0
A9: 8 | B9: =INSCRIPCION!$E$6 -> VIKINGOS | C9: =INSCRIPCION!D19 | D9: =INSCRIPCION!E19 -> 0 | E9: =INSCRIPCION!H19 -> , | F9: =INSCRIPCION!I19 -> 0 | G9: =INSCRIPCION!K19 -> 0 | H9: =INSCRIPCION!L19 -> 0 | I9: =INSCRIPCION!M19 -> 0 | J9: =INSCRIPCION!N19 -> 0 | K9: =INSCRIPCION!O19 -> 0 | L9: =INSCRIPCION!P19 -> 0
A10: 9 | B10: =INSCRIPCION!$E$6 -> VIKINGOS | C10: =INSCRIPCION!D20 | D10: =INSCRIPCION!E20 -> 0 | E10: =INSCRIPCION!H20 -> , | F10: =INSCRIPCION!I20 -> 0 | G10: =INSCRIPCION!K20 -> 0 | H10: =INSCRIPCION!L20 -> 0 | I10: =INSCRIPCION!M20 -> 0 | J10: =INSCRIPCION!N20 -> 0 | K10: =INSCRIPCION!O20 -> 0 | L10: =INSCRIPCION!P20 -> 0
A11: 10 | B11: =INSCRIPCION!$E$6 -> VIKINGOS | C11: =INSCRIPCION!D21 | D11: =INSCRIPCION!E21 -> 0 | E11: =INSCRIPCION!H21 -> , | F11: =INSCRIPCION!I21 -> 0 | G11: =INSCRIPCION!K21 -> 0 | H11: =INSCRIPCION!L21 -> 0 | I11: =INSCRIPCION!M21 -> 0 | J11: =INSCRIPCION!N21 -> 0 | K11: =INSCRIPCION!O21 -> 0 | L11: =INSCRIPCION!P21 -> 0
A12: 11 | B12: =INSCRIPCION!$E$6 -> VIKINGOS | C12: =INSCRIPCION!D22 | D12: =INSCRIPCION!E22 -> 0 | E12: =INSCRIPCION!H22 -> , | F12: =INSCRIPCION!I22 -> 0 | G12: =INSCRIPCION!K22 -> 0 | H12: =INSCRIPCION!L22 -> 0 | I12: =INSCRIPCION!M22 -> 0 | J12: =INSCRIPCION!N22 -> 0 | K12: =INSCRIPCION!O22 -> 0 | L12: =INSCRIPCION!P22 -> 0
A13: 12 | B13: =INSCRIPCION!$E$6 -> VIKINGOS | C13: =INSCRIPCION!D23 | D13: =INSCRIPCION!E23 -> 0 | E13: =INSCRIPCION!H23 -> , | F13: =INSCRIPCION!I23 -> 0 | G13: =INSCRIPCION!K23 -> 0 | H13: =INSCRIPCION!L23 -> 0 | I13: =INSCRIPCION!M23 -> 0 | J13: =INSCRIPCION!N23 -> 0 | K13: =INSCRIPCION!O23 -> 0 | L13: =INSCRIPCION!P23 -> 0
... A41: 40 | B41: =INSCRIPCION!$E$6 -> VIKINGOS | C41: =INSCRIPCION!D51 | D41: =INSCRIPCION!E51 -> 0 | E41: =INSCRIPCION!H51 -> , | F41: =INSCRIPCION!I51 -> 0 | G41: =INSCRIPCION!K51 -> 0 | H41: =INSCRIPCION!L51 -> 0 | I41: =INSCRIPCION!M51 -> 0 | J41: =INSCRIPCION!N51 -> 0 | K41: =INSCRIPCION!O51 -> 0 | L41: =INSCRIPCION!P51 -> 0
