Workbook

Sheet INSCRIPCION
B1: FEDERACIÓN DEPORTIVA NACIONAL PERUANA DE PATINAJE
A2: PLANILLA ÚNICA DE INSCRIPCIÓN PATIN PROFESIONAL | P2: CATEGORÍAS (EDADES TOMADAS AL 31/12/2026)
A3: EVENTO: | C3: 5TO° CAMPEONATO NACIONAL DE PATINAJE DE VELOCIDAD - OCTUBRE 2026
A4: CLUB : | C4: VIKINGOS | G4: TOTAL DEPORTISTAS | I4: 1 | K4: ORDINARIA | M4: EXTRA | P4: INFANTIL A | Q4: 7 AÑOS *-8 AÑOS
A5: DELEGADO : | G5: E-MAIL DELEGADO: | K5: X | P5: INFANTIL B | Q5: 9 AÑOS - 10 AÑOS
A6: ENTRENADOR : | G6: TELÉFONO DELEGADO: | P6: INFANTIL C | Q6: 11 AÑOS - 12 AÑOS
A7: I N F O R M A C I Ó N D E P O R T I V A | P7: JUNIOR | Q7: 13 AÑOS
A8: No | B8: CATEGORÍA | C8: RAMA F / M | D8: NOMBRES | E8: APELLIDOS | G8: NACIMIENTO | H8: DOC. DE IDENTIDAD | K8: PRUEBA 1 | L8: PRUEBA 2 | M8: PRUEBA 3 | N8: PRUEBA 4 | P8: PRE JUVENIL | Q8: 14 AÑOS
G9: DIA - MES - AÑO | H9: TIPO | I9: NÚMERO | J9: ESTATUS | P9: JUVENIL | Q9: 15 A 18 AÑOS
A10: 1 | B10: INFANTIL A | C10: F | D10: Perico | E10: PALOTES | F10: =_xlfn.CONCAT(E10,", ",D10) -> PALOTES, Perico | G10: 43853 | H10: DNI | I10: 123456789 | J10: AFILIADO | K10: x | L10: x | M10: x | N10: x | P10: MAYORES | Q10: 19 EN ADELANTE
A11: =+A10+1 -> 2 | F11: =_xlfn.CONCAT(E11,", ",D11) -> , | P11: MASTER | Q11: 39 AÑOS EN ADELANTE
A12: =+A11+1 -> 3 | F12: =_xlfn.CONCAT(E12,", ",D12) -> ,
A13: =+A12+1 -> 4 | F13: =_xlfn.CONCAT(E13,", ",D13) -> ,
A14: =+A13+1 -> 5 | F14: =_xlfn.CONCAT(E14,", ",D14) -> ,
A15: =+A14+1 -> 6 | F15: =_xlfn.CONCAT(E15,", ",D15) -> , | P15: ESTATUS ** | Q15: DOCUMENTO TIPO
A16: =+A15+1 -> 7 | F16: =_xlfn.CONCAT(E16,", ",D16) -> ,
A17: =+A16+1 -> 8 | F17: =_xlfn.CONCAT(E17,", ",D17) -> ,
A18: =+A17+1 -> 9 | F18: =_xlfn.CONCAT(E18,", ",D18) -> , | P18: AFILIADO | Q18: DNI
A19: =+A18+1 -> 10 | F19: =_xlfn.CONCAT(E19,", ",D19) -> , | P19: INVITADO | Q19: PASAPORTE
A20: =+A19+1 -> 11 | F20: =_xlfn.CONCAT(E20,", ",D20) -> , | Q20: OTRO
A21: =+A20+1 -> 12 | F21: =_xlfn.CONCAT(E21,", ",D21) -> ,
A22: =+A21+1 -> 13 | F22: =_xlfn.CONCAT(E22,", ",D22) -> ,
A23: =+A22+1 -> 14 | F23: =_xlfn.CONCAT(E23,", ",D23) -> , | P23: DOCUMENTO TIPO | Q23: * Cumplidos a la fecha del evento.
A24: =+A23+1 -> 15 | F24: =_xlfn.CONCAT(E24,", ",D24) -> , | Q24: ** AFILIADO: Federado; INVITADO: Extranjero.
A25: =+A24+1 -> 16 | F25: =_xlfn.CONCAT(E25,", ",D25) -> ,
A26: =+A25+1 -> 17 | F26: =_xlfn.CONCAT(E26,", ",D26) -> , | P26: DNI
A27: =+A26+1 -> 18 | F27: =_xlfn.CONCAT(E27,", ",D27) -> , | P27: CE
A28: =+A27+1 -> 19 | F28: =_xlfn.CONCAT(E28,", ",D28) -> , | P28: PASAPORTE
A29: =+A28+1 -> 20 | F29: =_xlfn.CONCAT(E29,", ",D29) -> , | P29: OTRO
A30: =+A29+1 -> 21 | F30: =_xlfn.CONCAT(E30,", ",D30) -> ,
A31: =+A30+1 -> 22 | F31: =_xlfn.CONCAT(E31,", ",D31) -> ,
A32: =+A31+1 -> 23 | F32: =_xlfn.CONCAT(E32,", ",D32) -> , | P32: F
A33: =+A32+1 -> 24 | F33: =_xlfn.CONCAT(E33,", ",D33) -> , | P33: M
A34: =+A33+1 -> 25 | F34: =_xlfn.CONCAT(E34,", ",D34) -> ,
A35: =+A34+1 -> 26 | F35: =_xlfn.CONCAT(E35,", ",D35) -> ,
A36: =+A35+1 -> 27 | F36: =_xlfn.CONCAT(E36,", ",D36) -> ,
A37: =+A36+1 -> 28 | F37: =_xlfn.CONCAT(E37,", ",D37) -> ,
A38: =+A37+1 -> 29 | F38: =_xlfn.CONCAT(E38,", ",D38) -> ,
A39: =+A38+1 -> 30 | F39: =_xlfn.CONCAT(E39,", ",D39) -> ,
C41: INSCRIPCIÓN ORDINARIA | I41: TOTAL
C42: MONTO A PAGAR POR INSCRIPCIÓN CLUB O ESCUELA INVITADA | H42: 100 | I42: =IF(K5="X",H42,0) -> 100
C43: MONTO A PAGAR POR INSCRIPCIÓN DE DEPORTISTAS | H43: 80 | I43: =IF(K5="X",I4*H43,0) -> 80
C44: MONTO TOTAL A PAGAR ORDINARIA | I44: =+I42+I43 -> 180
C46: INSCRIPCIÓN EXTRAORDINARIA | I46: TOTAL
C47: MONTO A PAGAR POR INSCRIPCIÓN CLUB O ESCUELA INVITADA | H47: 140 | I47: =IF(M5="X",H47,0) -> 0
C48: MONTO A PAGAR POR INSCRIPCIÓN DE DEPORTISTAS | H48: 120 | I48: =IF(M5="X",I4*H48,0) -> 0
C49: MONTO TOTAL A PAGAR ORDINARIA | I49: =+I47+I48 -> 0

Sheet Datos
B1: CLUB | C1: CATEGORIA | D1: RAMA | E1: APELLIDOS y NOMBRES | F1: NACIMIENTO | G1: TIPO | H1: NUMERO | I1: ESTATUS | J1: PRUEBA 1 | K1: PRUEBA 2 | L1: PRUEBA 3 | M1: PRUEBA 4
A2: 1 | B2: =INSCRIPCION!$C$4 -> VIKINGOS | C2: =INSCRIPCION!B10 -> INFANTIL A | D2: =INSCRIPCION!C10 -> F | E2: =INSCRIPCION!F10 -> PALOTES, Perico | F2: =INSCRIPCION!G10 -> 43853 | G2: =INSCRIPCION!H10 -> DNI | H2: =INSCRIPCION!I10 -> 123456789 | I2: =INSCRIPCION!J10 -> AFILIADO | J2: =INSCRIPCION!K10 -> x | K2: =INSCRIPCION!L10 -> x | L2: =INSCRIPCION!M10 -> x | M2: =INSCRIPCION!N10 -> x
A3: 2 | B3: =INSCRIPCION!$C$4 -> VIKINGOS | C3: =INSCRIPCION!B11 -> 0 | D3: =INSCRIPCION!C11 -> 0 | E3: =INSCRIPCION!F11 -> , | F3: =INSCRIPCION!G11 -> 0 | G3: =INSCRIPCION!H11 -> 0 | H3: =INSCRIPCION!I11 -> 0 | I3: =INSCRIPCION!J11 -> 0 | J3: =INSCRIPCION!K11 -> 0 | K3: =INSCRIPCION!L11 -> 0 | L3: =INSCRIPCION!M11 -> 0 | M3: =INSCRIPCION!N11 -> 0
A4: 3 | B4: =INSCRIPCION!$C$4 -> VIKINGOS | C4: =INSCRIPCION!B12 -> 0 | D4: =INSCRIPCION!C12 -> 0 | E4: =INSCRIPCION!F12 -> , | F4: =INSCRIPCION!G12 -> 0 | G4: =INSCRIPCION!H12 -> 0 | H4: =INSCRIPCION!I12 -> 0 | I4: =INSCRIPCION!J12 -> 0 | J4: =INSCRIPCION!K12 -> 0 | K4: =INSCRIPCION!L12 -> 0 | L4: =INSCRIPCION!M12 -> 0 | M4: =INSCRIPCION!N12 -> 0
A5: 4 | B5: =INSCRIPCION!$C$4 -> VIKINGOS | C5: =INSCRIPCION!B13 -> 0 | D5: =INSCRIPCION!C13 -> 0 | E5: =INSCRIPCION!F13 -> , | F5: =INSCRIPCION!G13 -> 0 | G5: =INSCRIPCION!H13 -> 0 | H5: =INSCRIPCION!I13 -> 0 | I5: =INSCRIPCION!J13 -> 0 | J5: =INSCRIPCION!K13 -> 0 | K5: =INSCRIPCION!L13 -> 0 | L5: =INSCRIPCION!M13 -> 0 | M5: =INSCRIPCION!N13 -> 0
A6: 5 | B6: =INSCRIPCION!$C$4 -> VIKINGOS | C6: =INSCRIPCION!B14 -> 0 | D6: =INSCRIPCION!C14 -> 0 | E6: =INSCRIPCION!F14 -> , | F6: =INSCRIPCION!G14 -> 0 | G6: =INSCRIPCION!H14 -> 0 | H6: =INSCRIPCION!I14 -> 0 | I6: =INSCRIPCION!J14 -> 0 | J6: =INSCRIPCION!K14 -> 0 | K6: =INSCRIPCION!L14 -> 0 | L6: =INSCRIPCION!M14 -> 0 | M6: =INSCRIPCION!N14 -> 0
A7: 6 | B7: =INSCRIPCION!$C$4 -> VIKINGOS | C7: =INSCRIPCION!B15 -> 0 | D7: =INSCRIPCION!C15 -> 0 | E7: =INSCRIPCION!F15 -> , | F7: =INSCRIPCION!G15 -> 0 | G7: =INSCRIPCION!H15 -> 0 | H7: =INSCRIPCION!I15 -> 0 | I7: =INSCRIPCION!J15 -> 0 | J7: =INSCRIPCION!K15 -> 0 | K7: =INSCRIPCION!L15 -> 0 | L7: =INSCRIPCION!M15 -> 0 | M7: =INSCRIPCION!N15 -> 0
A8: 7 | B8: =INSCRIPCION!$C$4 -> VIKINGOS | C8: =INSCRIPCION!B16 -> 0 | D8: =INSCRIPCION!C16 -> 0 | E8: =INSCRIPCION!F16 -> , | F8: =INSCRIPCION!G16 -> 0 | G8: =INSCRIPCION!H16 -> 0 | H8: =INSCRIPCION!I16 -> 0 | I8: =INSCRIPCION!J16 -> 0 | J8: =INSCRIPCION!K16 -> 0 | K8: =INSCRIPCION!L16 -> 0 | L8: =INSCRIPCION!M16 -> 0 | M8: =INSCRIPCION!N16 -> 0
A9: 8 | B9: =INSCRIPCION!$C$4 -> VIKINGOS | C9: =INSCRIPCION!B17 -> 0 | D9: =INSCRIPCION!C17 -> 0 | E9: =INSCRIPCION!F17 -> , | F9: =INSCRIPCION!G17 -> 0 | G9: =INSCRIPCION!H17 -> 0 | H9: =INSCRIPCION!I17 -> 0 | I9: =INSCRIPCION!J17 -> 0 | J9: =INSCRIPCION!K17 -> 0 | K9: =INSCRIPCION!L17 -> 0 | L9: =INSCRIPCION!M17 -> 0 | M9: =INSCRIPCION!N17 -> 0
A10: 9 | B10: =INSCRIPCION!$C$4 -> VIKINGOS | C10: =INSCRIPCION!B18 -> 0 | D10: =INSCRIPCION!C18 -> 0 | E10: =INSCRIPCION!F18 -> , | F10: =INSCRIPCION!G18 -> 0 | G10: =INSCRIPCION!H18 -> 0 | H10: =INSCRIPCION!I18 -> 0 | I10: =INSCRIPCION!J18 -> 0 | J10: =INSCRIPCION!K18 -> 0 | K10: =INSCRIPCION!L18 -> 0 | L10: =INSCRIPCION!M18 -> 0 | M10: =INSCRIPCION!N18 -> 0
A11: 10 | B11: =INSCRIPCION!$C$4 -> VIKINGOS | C11: =INSCRIPCION!B19 -> 0 | D11: =INSCRIPCION!C19 -> 0 | E11: =INSCRIPCION!F19 -> , | F11: =INSCRIPCION!G19 -> 0 | G11: =INSCRIPCION!H19 -> 0 | H11: =INSCRIPCION!I19 -> 0 | I11: =INSCRIPCION!J19 -> 0 | J11: =INSCRIPCION!K19 -> 0 | K11: =INSCRIPCION!L19 -> 0 | L11: =INSCRIPCION!M19 -> 0 | M11: =INSCRIPCION!N19 -> 0
A12: 11 | B12: =INSCRIPCION!$C$4 -> VIKINGOS | C12: =INSCRIPCION!B20 -> 0 | D12: =INSCRIPCION!C20 -> 0 | E12: =INSCRIPCION!F20 -> , | F12: =INSCRIPCION!G20 -> 0 | G12: =INSCRIPCION!H20 -> 0 | H12: =INSCRIPCION!I20 -> 0 | I12: =INSCRIPCION!J20 -> 0 | J12: =INSCRIPCION!K20 -> 0 | K12: =INSCRIPCION!L20 -> 0 | L12: =INSCRIPCION!M20 -> 0 | M12: =INSCRIPCION!N20 -> 0
A13: 12 | B13: =INSCRIPCION!$C$4 -> VIKINGOS | C13: =INSCRIPCION!B21 -> 0 | D13: =INSCRIPCION!C21 -> 0 | E13: =INSCRIPCION!F21 -> , | F13: =INSCRIPCION!G21 -> 0 | G13: =INSCRIPCION!H21 -> 0 | H13: =INSCRIPCION!I21 -> 0 | I13: =INSCRIPCION!J21 -> 0 | J13: =INSCRIPCION!K21 -> 0 | K13: =INSCRIPCION!L21 -> 0 | L13: =INSCRIPCION!M21 -> 0 | M13: =INSCRIPCION!N21 -> 0
... A31: 30 | B31: =INSCRIPCION!$C$4 -> VIKINGOS | C31: =INSCRIPCION!B39 -> 0 | D31: =INSCRIPCION!C39 -> 0 | E31: =INSCRIPCION!F39 -> , | F31: =INSCRIPCION!G39 -> 0 | G31: =INSCRIPCION!H39 -> 0 | H31: =INSCRIPCION!I39 -> 0 | I31: =INSCRIPCION!J39 -> 0 | J31: =INSCRIPCION!K39 -> 0 | K31: =INSCRIPCION!L39 -> 0 | L31: =INSCRIPCION!M39 -> 0 | M31: =INSCRIPCION!N39 -> 0
A32: 31 | B32: =INSCRIPCION!$C$4 -> VIKINGOS | C32: =INSCRIPCION!#REF! -> #REF! | D32: =INSCRIPCION!#REF! -> #REF! | E32: =INSCRIPCION!#REF! -> #REF! | F32: =INSCRIPCION!#REF! -> #REF! | G32: =INSCRIPCION!#REF! -> #REF! | H32: =INSCRIPCION!#REF! -> #REF! | I32: =INSCRIPCION!#REF! -> #REF! | J32: =INSCRIPCION!#REF! -> #REF! | ... M32: =INSCRIPCION!#REF! -> #REF!
A33: 32 | B33: =INSCRIPCION!$C$4 -> VIKINGOS | C33: =INSCRIPCION!#REF! -> #REF! | D33: =INSCRIPCION!#REF! -> #REF! | E33: =INSCRIPCION!#REF! -> #REF! | F33: =INSCRIPCION!#REF! -> #REF! | G33: =INSCRIPCION!#REF! -> #REF! | H33: =INSCRIPCION!#REF! -> #REF! | I33: =INSCRIPCION!#REF! -> #REF! | J33: =INSCRIPCION!#REF! -> #REF! | ... M33: =INSCRIPCION!#REF! -> #REF!
A34: 33 | B34: =INSCRIPCION!$C$4 -> VIKINGOS | C34: =INSCRIPCION!#REF! -> #REF! | D34: =INSCRIPCION!#REF! -> #REF! | E34: =INSCRIPCION!#REF! -> #REF! | F34: =INSCRIPCION!#REF! -> #REF! | G34: =INSCRIPCION!#REF! -> #REF! | H34: =INSCRIPCION!#REF! -> #REF! | I34: =INSCRIPCION!#REF! -> #REF! | J34: =INSCRIPCION!#REF! -> #REF! | ... M34: =INSCRIPCION!#REF! -> #REF!
A35: 34 | B35: =INSCRIPCION!$C$4 -> VIKINGOS | C35: =INSCRIPCION!#REF! -> #REF! | D35: =INSCRIPCION!#REF! -> #REF! | E35: =INSCRIPCION!#REF! -> #REF! | F35: =INSCRIPCION!#REF! -> #REF! | G35: =INSCRIPCION!#REF! -> #REF! | H35: =INSCRIPCION!#REF! -> #REF! | I35: =INSCRIPCION!#REF! -> #REF! | J35: =INSCRIPCION!#REF! -> #REF! | ... M35: =INSCRIPCION!#REF! -> #REF!
A36: 35 | B36: =INSCRIPCION!$C$4 -> VIKINGOS | C36: =INSCRIPCION!#REF! -> #REF! | D36: =INSCRIPCION!#REF! -> #REF! | E36: =INSCRIPCION!#REF! -> #REF! | F36: =INSCRIPCION!#REF! -> #REF! | G36: =INSCRIPCION!#REF! -> #REF! | H36: =INSCRIPCION!#REF! -> #REF! | I36: =INSCRIPCION!#REF! -> #REF! | J36: =INSCRIPCION!#REF! -> #REF! | ... M36: =INSCRIPCION!#REF! -> #REF!
A37: 36 | B37: =INSCRIPCION!$C$4 -> VIKINGOS | C37: =INSCRIPCION!#REF! -> #REF! | D37: =INSCRIPCION!#REF! -> #REF! | E37: =INSCRIPCION!#REF! -> #REF! | F37: =INSCRIPCION!#REF! -> #REF! | G37: =INSCRIPCION!#REF! -> #REF! | H37: =INSCRIPCION!#REF! -> #REF! | I37: =INSCRIPCION!#REF! -> #REF! | J37: =INSCRIPCION!#REF! -> #REF! | ... M37: =INSCRIPCION!#REF! -> #REF!
A38: 37 | B38: =INSCRIPCION!$C$4 -> VIKINGOS | C38: =INSCRIPCION!#REF! -> #REF! | D38: =INSCRIPCION!#REF! -> #REF! | E38: =INSCRIPCION!#REF! -> #REF! | F38: =INSCRIPCION!#REF! -> #REF! | G38: =INSCRIPCION!#REF! -> #REF! | H38: =INSCRIPCION!#REF! -> #REF! | I38: =INSCRIPCION!#REF! -> #REF! | J38: =INSCRIPCION!#REF! -> #REF! | ... M38: =INSCRIPCION!#REF! -> #REF!
A39: 38 | B39: =INSCRIPCION!$C$4 -> VIKINGOS | C39: =INSCRIPCION!#REF! -> #REF! | D39: =INSCRIPCION!#REF! -> #REF! | E39: =INSCRIPCION!#REF! -> #REF! | F39: =INSCRIPCION!#REF! -> #REF! | G39: =INSCRIPCION!#REF! -> #REF! | H39: =INSCRIPCION!#REF! -> #REF! | I39: =INSCRIPCION!#REF! -> #REF! | J39: =INSCRIPCION!#REF! -> #REF! | ... M39: =INSCRIPCION!#REF! -> #REF!
A40: 39 | B40: =INSCRIPCION!$C$4 -> VIKINGOS | C40: =INSCRIPCION!#REF! -> #REF! | D40: =INSCRIPCION!#REF! -> #REF! | E40: =INSCRIPCION!#REF! -> #REF! | F40: =INSCRIPCION!#REF! -> #REF! | G40: =INSCRIPCION!#REF! -> #REF! | H40: =INSCRIPCION!#REF! -> #REF! | I40: =INSCRIPCION!#REF! -> #REF! | J40: =INSCRIPCION!#REF! -> #REF! | ... M40: =INSCRIPCION!#REF! -> #REF!
A41: 40 | B41: =INSCRIPCION!$C$4 -> VIKINGOS | C41: =INSCRIPCION!#REF! -> #REF! | D41: =INSCRIPCION!#REF! -> #REF! | E41: =INSCRIPCION!#REF! -> #REF! | F41: =INSCRIPCION!#REF! -> #REF! | G41: =INSCRIPCION!#REF! -> #REF! | H41: =INSCRIPCION!#REF! -> #REF! | I41: =INSCRIPCION!#REF! -> #REF! | J41: =INSCRIPCION!#REF! -> #REF! | ... M41: =INSCRIPCION!#REF! -> #REF!

Sheet REGISTRO DELE_ENTRE_ASISTENTE
A1: *NOTA* | B1: Por cada 12 deportistas inscritos se registra un asistente
A2: *NOTA* | B2: Sólo se permite el ingreso de vehículo del delegado, registrar la placa del vehículo del delegado únicamente
G3: DELEGADO
G4: ENTRENADOR
G5: ASISTENTE
G6: FISIOTERAPEUTA
A7: REGISTRO DELEGADO/ENTRENADOR/ASISTENTE/FISIOTERAPEUTA
A8: SÁBADO TARDE Y DOMINGO TODO EL DÍA
A9: CLUB | B9: APELLIDOS | C9: NOMBRES | D9: DNI / CE / PASS | E9: ENTRENADOR/ DELEGADO/ ASISTENTE | F9: VEHÍCULO

Sheet Hoja1
A1: ITEM | B1: PATIN | C1: CLUB | D1: CATEGORIA2 | E1: CATEGORÍA | F1: RAMA | G1: NOMBRES | I1: FECHA DE NACIMIENTO | J1: TIPO | K1: NÚMERO | L1: ESTATUS | M1: PRUEBA 1 | N1: PRUEBA 2 | O1: PRUEBA 3 | P1: PRUEBA 4 | Q1: INSCRIPCION
A2: =+INSCRIPCION!A10 -> 1 | B2: PROFESIONAL | C2: =+INSCRIPCION!$C$4 -> VIKINGOS | D2: =+INSCRIPCION!B10 -> INFANTIL A | E2: =+D2&" "&B2 -> INFANTIL A PROFESIONAL | F2: =+INSCRIPCION!C10 -> F | G2: =+INSCRIPCION!F10 -> PALOTES, Perico | H2: =+UPPER(G2) -> PALOTES, PERICO | I2: =+INSCRIPCION!G10 -> 43853 | J2: =+INSCRIPCION!H10 -> DNI | K2: =+INSCRIPCION!I10 -> 123456789 | L2: =+INSCRIPCION!J10 -> AFILIADO | M2: =+INSCRIPCION!K10 -> x | N2: =+INSCRIPCION!L10 -> x | O2: =+INSCRIPCION!M10 -> x | P2: =+INSCRIPCION!N10 -> x
A3: =+INSCRIPCION!A11 -> 2 | B3: PROFESIONAL | C3: =+INSCRIPCION!$C$4 -> VIKINGOS | D3: =+INSCRIPCION!B11 -> 0 | E3: =+D3&" "&B3 -> 0 PROFESIONAL | F3: =+INSCRIPCION!C11 -> 0 | G3: =+INSCRIPCION!F11 -> , | H3: =+UPPER(G3) -> , | I3: =+INSCRIPCION!G11 -> 0 | J3: =+INSCRIPCION!H11 -> 0 | K3: =+INSCRIPCION!I11 -> 0 | L3: =+INSCRIPCION!J11 -> 0 | M3: =+INSCRIPCION!K11 -> 0 | N3: =+INSCRIPCION!L11 -> 0 | O3: =+INSCRIPCION!M11 -> 0 | P3: =+INSCRIPCION!N11 -> 0
A4: =+INSCRIPCION!A12 -> 3 | B4: PROFESIONAL | C4: =+INSCRIPCION!$C$4 -> VIKINGOS | D4: =+INSCRIPCION!B12 -> 0 | E4: =+D4&" "&B4 -> 0 PROFESIONAL | F4: =+INSCRIPCION!C12 -> 0 | G4: =+INSCRIPCION!F12 -> , | H4: =+UPPER(G4) -> , | I4: =+INSCRIPCION!G12 -> 0 | J4: =+INSCRIPCION!H12 -> 0 | K4: =+INSCRIPCION!I12 -> 0 | L4: =+INSCRIPCION!J12 -> 0 | M4: =+INSCRIPCION!K12 -> 0 | N4: =+INSCRIPCION!L12 -> 0 | O4: =+INSCRIPCION!M12 -> 0 | P4: =+INSCRIPCION!N12 -> 0
A5: =+INSCRIPCION!A13 -> 4 | B5: PROFESIONAL | C5: =+INSCRIPCION!$C$4 -> VIKINGOS | D5: =+INSCRIPCION!B13 -> 0 | E5: =+D5&" "&B5 -> 0 PROFESIONAL | F5: =+INSCRIPCION!C13 -> 0 | G5: =+INSCRIPCION!F13 -> , | H5: =+UPPER(G5) -> , | I5: =+INSCRIPCION!G13 -> 0 | J5: =+INSCRIPCION!H13 -> 0 | K5: =+INSCRIPCION!I13 -> 0 | L5: =+INSCRIPCION!J13 -> 0 | M5: =+INSCRIPCION!K13 -> 0 | N5: =+INSCRIPCION!L13 -> 0 | O5: =+INSCRIPCION!M13 -> 0 | P5: =+INSCRIPCION!N13 -> 0
A6: =+INSCRIPCION!A14 -> 5 | B6: PROFESIONAL | C6: =+INSCRIPCION!$C$4 -> VIKINGOS | D6: =+INSCRIPCION!B14 -> 0 | E6: =+D6&" "&B6 -> 0 PROFESIONAL | F6: =+INSCRIPCION!C14 -> 0 | G6: =+INSCRIPCION!F14 -> , | H6: =+UPPER(G6) -> , | I6: =+INSCRIPCION!G14 -> 0 | J6: =+INSCRIPCION!H14 -> 0 | K6: =+INSCRIPCION!I14 -> 0 | L6: =+INSCRIPCION!J14 -> 0 | M6: =+INSCRIPCION!K14 -> 0 | N6: =+INSCRIPCION!L14 -> 0 | O6: =+INSCRIPCION!M14 -> 0 | P6: =+INSCRIPCION!N14 -> 0
A7: =+INSCRIPCION!A15 -> 6 | B7: PROFESIONAL | C7: =+INSCRIPCION!$C$4 -> VIKINGOS | D7: =+INSCRIPCION!B15 -> 0 | E7: =+D7&" "&B7 -> 0 PROFESIONAL | F7: =+INSCRIPCION!C15 -> 0 | G7: =+INSCRIPCION!F15 -> , | H7: =+UPPER(G7) -> , | I7: =+INSCRIPCION!G15 -> 0 | J7: =+INSCRIPCION!H15 -> 0 | K7: =+INSCRIPCION!I15 -> 0 | L7: =+INSCRIPCION!J15 -> 0 | M7: =+INSCRIPCION!K15 -> 0 | N7: =+INSCRIPCION!L15 -> 0 | O7: =+INSCRIPCION!M15 -> 0 | P7: =+INSCRIPCION!N15 -> 0
A8: =+INSCRIPCION!A16 -> 7 | B8: PROFESIONAL | C8: =+INSCRIPCION!$C$4 -> VIKINGOS | D8: =+INSCRIPCION!B16 -> 0 | E8: =+D8&" "&B8 -> 0 PROFESIONAL | F8: =+INSCRIPCION!C16 -> 0 | G8: =+INSCRIPCION!F16 -> , | H8: =+UPPER(G8) -> , | I8: =+INSCRIPCION!G16 -> 0 | J8: =+INSCRIPCION!H16 -> 0 | K8: =+INSCRIPCION!I16 -> 0 | L8: =+INSCRIPCION!J16 -> 0 | M8: =+INSCRIPCION!K16 -> 0 | N8: =+INSCRIPCION!L16 -> 0 | O8: =+INSCRIPCION!M16 -> 0 | P8: =+INSCRIPCION!N16 -> 0
A9: =+INSCRIPCION!A17 -> 8 | B9: PROFESIONAL | C9: =+INSCRIPCION!$C$4 -> VIKINGOS | D9: =+INSCRIPCION!B17 -> 0 | E9: =+D9&" "&B9 -> 0 PROFESIONAL | F9: =+INSCRIPCION!C17 -> 0 | G9: =+INSCRIPCION!F17 -> , | H9: =+UPPER(G9) -> , | I9: =+INSCRIPCION!G17 -> 0 | J9: =+INSCRIPCION!H17 -> 0 | K9: =+INSCRIPCION!I17 -> 0 | L9: =+INSCRIPCION!J17 -> 0 | M9: =+INSCRIPCION!K17 -> 0 | N9: =+INSCRIPCION!L17 -> 0 | O9: =+INSCRIPCION!M17 -> 0 | P9: =+INSCRIPCION!N17 -> 0
A10: =+INSCRIPCION!A18 -> 9 | B10: PROFESIONAL | C10: =+INSCRIPCION!$C$4 -> VIKINGOS | D10: =+INSCRIPCION!B18 -> 0 | E10: =+D10&" "&B10 -> 0 PROFESIONAL | F10: =+INSCRIPCION!C18 -> 0 | G10: =+INSCRIPCION!F18 -> , | H10: =+UPPER(G10) -> , | I10: =+INSCRIPCION!G18 -> 0 | J10: =+INSCRIPCION!H18 -> 0 | K10: =+INSCRIPCION!I18 -> 0 | L10: =+INSCRIPCION!J18 -> 0 | M10: =+INSCRIPCION!K18 -> 0 | N10: =+INSCRIPCION!L18 -> 0 | O10: =+INSCRIPCION!M18 -> 0 | P10: =+INSCRIPCION!N18 -> 0
A11: =+INSCRIPCION!A19 -> 10 | B11: PROFESIONAL | C11: =+INSCRIPCION!$C$4 -> VIKINGOS | D11: =+INSCRIPCION!B19 -> 0 | E11: =+D11&" "&B11 -> 0 PROFESIONAL | F11: =+INSCRIPCION!C19 -> 0 | G11: =+INSCRIPCION!F19 -> , | H11: =+UPPER(G11) -> , | I11: =+INSCRIPCION!G19 -> 0 | J11: =+INSCRIPCION!H19 -> 0 | K11: =+INSCRIPCION!I19 -> 0 | L11: =+INSCRIPCION!J19 -> 0 | M11: =+INSCRIPCION!K19 -> 0 | N11: =+INSCRIPCION!L19 -> 0 | O11: =+INSCRIPCION!M19 -> 0 | P11: =+INSCRIPCION!N19 -> 0
A12: =+INSCRIPCION!A20 -> 11 | B12: PROFESIONAL | C12: =+INSCRIPCION!$C$4 -> VIKINGOS | D12: =+INSCRIPCION!B20 -> 0 | E12: =+D12&" "&B12 -> 0 PROFESIONAL | F12: =+INSCRIPCION!C20 -> 0 | G12: =+INSCRIPCION!F20 -> , | H12: =+UPPER(G12) -> , | I12: =+INSCRIPCION!G20 -> 0 | J12: =+INSCRIPCION!H20 -> 0 | K12: =+INSCRIPCION!I20 -> 0 | L12: =+INSCRIPCION!J20 -> 0 | M12: =+INSCRIPCION!K20 -> 0 | N12: =+INSCRIPCION!L20 -> 0 | O12: =+INSCRIPCION!M20 -> 0 | P12: =+INSCRIPCION!N20 -> 0
A13: =+INSCRIPCION!A21 -> 12 | B13: PROFESIONAL | C13: =+INSCRIPCION!$C$4 -> VIKINGOS | D13: =+INSCRIPCION!B21 -> 0 | E13: =+D13&" "&B13 -> 0 PROFESIONAL | F13: =+INSCRIPCION!C21 -> 0 | G13: =+INSCRIPCION!F21 -> , | H13: =+UPPER(G13) -> , | I13: =+INSCRIPCION!G21 -> 0 | J13: =+INSCRIPCION!H21 -> 0 | K13: =+INSCRIPCION!I21 -> 0 | L13: =+INSCRIPCION!J21 -> 0 | M13: =+INSCRIPCION!K21 -> 0 | N13: =+INSCRIPCION!L21 -> 0 | O13: =+INSCRIPCION!M21 -> 0 | P13: =+INSCRIPCION!N21 -> 0
... A31: =+INSCRIPCION!A39 -> 30 | B31: PROFESIONAL | C31: =+INSCRIPCION!$C$4 -> VIKINGOS | D31: =+INSCRIPCION!B39 -> 0 | E31: =+D31&" "&B31 -> 0 PROFESIONAL | F31: =+INSCRIPCION!C39 -> 0 | G31: =+INSCRIPCION!F39 -> , | H31: =+UPPER(G31) -> , | I31: =+INSCRIPCION!G39 -> 0 | J31: =+INSCRIPCION!H39 -> 0 | K31: =+INSCRIPCION!I39 -> 0 | L31: =+INSCRIPCION!J39 -> 0 | M31: =+INSCRIPCION!K39 -> 0 | N31: =+INSCRIPCION!L39 -> 0 | O31: =+INSCRIPCION!M39 -> 0 | P31: =+INSCRIPCION!N39 -> 0
